Workbook
Name _GCR1: #REF!
Name _GCR1: #REF!
Name _GCR1: #REF!
Name _GCR2: #REF!
Name _GCR2: #REF!
Name _GCR2: #REF!
Name _GCR3: #REF!
Name _GCR3: #REF!
Name _GCR3: #REF!
Name _KPR1: #REF!
Name _KPR1: #REF!
Name _KPR1: #REF!
Name _KPR2: #REF!
Name _KPR2: #REF!
Name _KPR2: #REF!
Name _KPR3: #REF!
Name _KPR3: #REF!
Name _KPR3: #REF!
Name CDF2AT: #REF!
Name CDF2AT: #REF!
Name CDF2AT: #REF!
Name CDF2ATMT: #REF!
Name CDF2ATMT: #REF!
Name CDF2ATMT: #REF!
Name CDF2BT: #REF!
Name CDF2BT: #REF!
Name CDF2BT: #REF!
Name CDF2BTES: #REF!
Name CDF2BTES: #REF!
Name CDF2BTES: #REF!
Name CDF2BTop: #REF!
Name CDF2BTop: #REF!
Name CDF2BTop: #REF!
Name CDF2MT: #REF!
Name CDF2MT: #REF!
Name CDF2MT: #REF!
Name CDF2MTBT: #REF!
Name CDF2MTBT: #REF!
Name CDF2MTBT: #REF!
Name CDFAP: #REF!
Name CDFAP: #REF!
Name CDFAP: #REF!
Name CDFATMT: #REF!
Name CDFATMT: #REF!
Name CDFATMT: #REF!
Name CDFG: #REF!
Name CDFG: #REF!
Name CDFG: #REF!
Name CDFR1: #REF!
Name CDFR1: #REF!
Name CDFR1: #REF!
Name CDFR2: #REF!
Name CDFR2: #REF!
Name CDFR2: #REF!
Name CDFR3: #REF!
Name CDFR3: #REF!
Name CDFR3: #REF!
Name CDFRiegoBT: #REF!
Name CDFRiegoBT: #REF!
Name CDFRiegoBT: #REF!

Sheet Carga de datos
B1: SIMULADOR DE ESTABILIZACIÓN DE LA FACTURA ELÉCTRICA DE RIEGO AGRÍCOLA
B3: El esquema de estabilización de la factura eléctrica es una alternativa que permite al productor trasladar costos eléctricos desde meses en los que debe afrontar elevados gastos en fertilizaciones, curaciones y trabajos con maquinaria (agosto a diciembre generalmente) hacia meses posteriores, permitiendo aliviar el bolsillo del productor en una etapa donde la provisión del recurso hidrico resulta esencial. Esto permite que el costo de la electricidad consumida durante esos meses se traslade a meses en los cuales el consumo es menor y el productor ya habrá llevado adelante la cosecha.
B5: El presente simulador estima la facturación eléctrica del productor desde agosto de 2021 a julio de 2022 asumiendo que no se producen nuevos incrementos tarifarios.
G6: 1
B7: Modificar solo celdas en amarillo y elegir entre las distintas opciones presentadas | G7: =+G6+7 -> 8 | H7: =IF(G7=1,DATE(2021,1,1),0)+IF(G7=2,DATE(2021,2,1),0)+IF(G7=3,DATE(2021,3,1),0)+IF(G7=4,DATE(2021,4,1),0)+IF(G7=5,DATE(2021,5,1),0)+IF(G7=6,DATE(2021,6,1),0)+IF(G7=7,DATE(2021,7,1),0)+IF(G7=8,DATE(2021,8,1),0)+IF(G7=9,DATE(2021,9,1),0)+IF(G7=10,DATE(2021,10,1),0)+IF(G7=11,DATE(2021,11,1),0)+IF(G7=12,DATE(2021,12,1),0)+IF(G7=13,DATE(2022,1,1),0)+IF(G7=14,DATE(2022,2,1),0)+IF(G7=15,DATE(2022,3,1),0)+IF(G7=16,DATE(2022,4,1),0)+IF(G7=17,DATE(2022,5,1),0)+IF(G7=18,DATE(2022,6,1),0)+IF(G7=19,DATE(2022,7,1),0)+IF(G7=20,DATE(2022,8,1),0)+IF(G7=21,DATE(2022,9,1),0)+IF(G7=22,DATE(2022,10,1),0)+IF(G7=23,DATE(2022,11,1),0)+IF(G7=24,DATE(2022,12,1),0) -> 44409
B8: En la hoja "Resultado" se muestra la estimación resultante | G8: =+G7+1 -> 9 | H8: =IF(G8=1,DATE(2021,1,1),0)+IF(G8=2,DATE(2021,2,1),0)+IF(G8=3,DATE(2021,3,1),0)+IF(G8=4,DATE(2021,4,1),0)+IF(G8=5,DATE(2021,5,1),0)+IF(G8=6,DATE(2021,6,1),0)+IF(G8=7,DATE(2021,7,1),0)+IF(G8=8,DATE(2021,8,1),0)+IF(G8=9,DATE(2021,9,1),0)+IF(G8=10,DATE(2021,10,1),0)+IF(G8=11,DATE(2021,11,1),0)+IF(G8=12,DATE(2021,12,1),0)+IF(G8=13,DATE(2022,1,1),0)+IF(G8=14,DATE(2022,2,1),0)+IF(G8=15,DATE(2022,3,1),0)+IF(G8=16,DATE(2022,4,1),0)+IF(G8=17,DATE(2022,5,1),0)+IF(G8=18,DATE(2022,6,1),0)+IF(G8=19,DATE(2022,7,1),0)+IF(G8=20,DATE(2022,8,1),0)+IF(G8=21,DATE(2022,9,1),0)+IF(G8=22,DATE(2022,10,1),0)+IF(G8=23,DATE(2022,11,1),0)+IF(G8=24,DATE(2022,12,1),0) -> 44440
G9: =+G8+1 -> 10 | H9: =IF(G9=1,DATE(2021,1,1),0)+IF(G9=2,DATE(2021,2,1),0)+IF(G9=3,DATE(2021,3,1),0)+IF(G9=4,DATE(2021,4,1),0)+IF(G9=5,DATE(2021,5,1),0)+IF(G9=6,DATE(2021,6,1),0)+IF(G9=7,DATE(2021,7,1),0)+IF(G9=8,DATE(2021,8,1),0)+IF(G9=9,DATE(2021,9,1),0)+IF(G9=10,DATE(2021,10,1),0)+IF(G9=11,DATE(2021,11,1),0)+IF(G9=12,DATE(2021,12,1),0)+IF(G9=13,DATE(2022,1,1),0)+IF(G9=14,DATE(2022,2,1),0)+IF(G9=15,DATE(2022,3,1),0)+IF(G9=16,DATE(2022,4,1),0)+IF(G9=17,DATE(2022,5,1),0)+IF(G9=18,DATE(2022,6,1),0)+IF(G9=19,DATE(2022,7,1),0)+IF(G9=20,DATE(2022,8,1),0)+IF(G9=21,DATE(2022,9,1),0)+IF(G9=22,DATE(2022,10,1),0)+IF(G9=23,DATE(2022,11,1),0)+IF(G9=24,DATE(2022,12,1),0) -> 44470
B10: TIPO DE USUARIO | G10: =+G9+1 -> 11 | H10: =IF(G10=1,DATE(2021,1,1),0)+IF(G10=2,DATE(2021,2,1),0)+IF(G10=3,DATE(2021,3,1),0)+IF(G10=4,DATE(2021,4,1),0)+IF(G10=5,DATE(2021,5,1),0)+IF(G10=6,DATE(2021,6,1),0)+IF(G10=7,DATE(2021,7,1),0)+IF(G10=8,DATE(2021,8,1),0)+IF(G10=9,DATE(2021,9,1),0)+IF(G10=10,DATE(2021,10,1),0)+IF(G10=11,DATE(2021,11,1),0)+IF(G10=12,DATE(2021,12,1),0)+IF(G10=13,DATE(2022,1,1),0)+IF(G10=14,DATE(2022,2,1),0)+IF(G10=15,DATE(2022,3,1),0)+IF(G10=16,DATE(2022,4,1),0)+IF(G10=17,DATE(2022,5,1),0)+IF(G10=18,DATE(2022,6,1),0)+IF(G10=19,DATE(2022,7,1),0)+IF(G10=20,DATE(2022,8,1),0)+IF(G10=21,DATE(2022,9,1),0)+IF(G10=22,DATE(2022,10,1),0)+IF(G10=23,DATE(2022,11,1),0)+IF(G10=24,DATE(2022,12,1),0) -> 44501
B11: Empadronado - Compensado: Usuario inscripto en el padrón de riego agrícola y alcanzado por la compensación tarifaria (art. 36 Ley 6498), Decreto 1569/09 y Decreto 1742/16. (Hasta 50 hectáreas de superficie empadronada). | C11: 1 | D11: FALSE | G11: =+G10+1 -> 12 | H11: =IF(G11=1,DATE(2021,1,1),0)+IF(G11=2,DATE(2021,2,1),0)+IF(G11=3,DATE(2021,3,1),0)+IF(G11=4,DATE(2021,4,1),0)+IF(G11=5,DATE(2021,5,1),0)+IF(G11=6,DATE(2021,6,1),0)+IF(G11=7,DATE(2021,7,1),0)+IF(G11=8,DATE(2021,8,1),0)+IF(G11=9,DATE(2021,9,1),0)+IF(G11=10,DATE(2021,10,1),0)+IF(G11=11,DATE(2021,11,1),0)+IF(G11=12,DATE(2021,12,1),0)+IF(G11=13,DATE(2022,1,1),0)+IF(G11=14,DATE(2022,2,1),0)+IF(G11=15,DATE(2022,3,1),0)+IF(G11=16,DATE(2022,4,1),0)+IF(G11=17,DATE(2022,5,1),0)+IF(G11=18,DATE(2022,6,1),0)+IF(G11=19,DATE(2022,7,1),0)+IF(G11=20,DATE(2022,8,1),0)+IF(G11=21,DATE(2022,9,1),0)+IF(G11=22,DATE(2022,10,1),0)+IF(G11=23,DATE(2022,11,1),0)+IF(G11=24,DATE(2022,12,1),0) -> 44531
B12: Empadronado - No Compensado: Usuario inscripto en el padrón de riego agrícola y NO alcanzado por la compensación tarifaria. (Más de 50 hectáreas de superficie empadronada). | G12: =+G11+1 -> 13 | H12: =IF(G12=1,DATE(2021,1,1),0)+IF(G12=2,DATE(2021,2,1),0)+IF(G12=3,DATE(2021,3,1),0)+IF(G12=4,DATE(2021,4,1),0)+IF(G12=5,DATE(2021,5,1),0)+IF(G12=6,DATE(2021,6,1),0)+IF(G12=7,DATE(2021,7,1),0)+IF(G12=8,DATE(2021,8,1),0)+IF(G12=9,DATE(2021,9,1),0)+IF(G12=10,DATE(2021,10,1),0)+IF(G12=11,DATE(2021,11,1),0)+IF(G12=12,DATE(2021,12,1),0)+IF(G12=13,DATE(2022,1,1),0)+IF(G12=14,DATE(2022,2,1),0)+IF(G12=15,DATE(2022,3,1),0)+IF(G12=16,DATE(2022,4,1),0)+IF(G12=17,DATE(2022,5,1),0)+IF(G12=18,DATE(2022,6,1),0)+IF(G12=19,DATE(2022,7,1),0)+IF(G12=20,DATE(2022,8,1),0)+IF(G12=21,DATE(2022,9,1),0)+IF(G12=22,DATE(2022,10,1),0)+IF(G12=23,DATE(2022,11,1),0)+IF(G12=24,DATE(2022,12,1),0) -> 44562
B13: No empadronado: Usuario NO inscripto en el padrón de riego agrícola. | G13: =+G12+1 -> 14 | H13: =IF(G13=1,DATE(2021,1,1),0)+IF(G13=2,DATE(2021,2,1),0)+IF(G13=3,DATE(2021,3,1),0)+IF(G13=4,DATE(2021,4,1),0)+IF(G13=5,DATE(2021,5,1),0)+IF(G13=6,DATE(2021,6,1),0)+IF(G13=7,DATE(2021,7,1),0)+IF(G13=8,DATE(2021,8,1),0)+IF(G13=9,DATE(2021,9,1),0)+IF(G13=10,DATE(2021,10,1),0)+IF(G13=11,DATE(2021,11,1),0)+IF(G13=12,DATE(2021,12,1),0)+IF(G13=13,DATE(2022,1,1),0)+IF(G13=14,DATE(2022,2,1),0)+IF(G13=15,DATE(2022,3,1),0)+IF(G13=16,DATE(2022,4,1),0)+IF(G13=17,DATE(2022,5,1),0)+IF(G13=18,DATE(2022,6,1),0)+IF(G13=19,DATE(2022,7,1),0)+IF(G13=20,DATE(2022,8,1),0)+IF(G13=21,DATE(2022,9,1),0)+IF(G13=22,DATE(2022,10,1),0)+IF(G13=23,DATE(2022,11,1),0)+IF(G13=24,DATE(2022,12,1),0) -> 44593
G14: =+G13+1 -> 15 | H14: =IF(G14=1,DATE(2021,1,1),0)+IF(G14=2,DATE(2021,2,1),0)+IF(G14=3,DATE(2021,3,1),0)+IF(G14=4,DATE(2021,4,1),0)+IF(G14=5,DATE(2021,5,1),0)+IF(G14=6,DATE(2021,6,1),0)+IF(G14=7,DATE(2021,7,1),0)+IF(G14=8,DATE(2021,8,1),0)+IF(G14=9,DATE(2021,9,1),0)+IF(G14=10,DATE(2021,10,1),0)+IF(G14=11,DATE(2021,11,1),0)+IF(G14=12,DATE(2021,12,1),0)+IF(G14=13,DATE(2022,1,1),0)+IF(G14=14,DATE(2022,2,1),0)+IF(G14=15,DATE(2022,3,1),0)+IF(G14=16,DATE(2022,4,1),0)+IF(G14=17,DATE(2022,5,1),0)+IF(G14=18,DATE(2022,6,1),0)+IF(G14=19,DATE(2022,7,1),0)+IF(G14=20,DATE(2022,8,1),0)+IF(G14=21,DATE(2022,9,1),0)+IF(G14=22,DATE(2022,10,1),0)+IF(G14=23,DATE(2022,11,1),0)+IF(G14=24,DATE(2022,12,1),0) -> 44621
B15: MES DE ADHESIÓN | G15: =+G14+1 -> 16 | H15: =IF(G15=1,DATE(2021,1,1),0)+IF(G15=2,DATE(2021,2,1),0)+IF(G15=3,DATE(2021,3,1),0)+IF(G15=4,DATE(2021,4,1),0)+IF(G15=5,DATE(2021,5,1),0)+IF(G15=6,DATE(2021,6,1),0)+IF(G15=7,DATE(2021,7,1),0)+IF(G15=8,DATE(2021,8,1),0)+IF(G15=9,DATE(2021,9,1),0)+IF(G15=10,DATE(2021,10,1),0)+IF(G15=11,DATE(2021,11,1),0)+IF(G15=12,DATE(2021,12,1),0)+IF(G15=13,DATE(2022,1,1),0)+IF(G15=14,DATE(2022,2,1),0)+IF(G15=15,DATE(2022,3,1),0)+IF(G15=16,DATE(2022,4,1),0)+IF(G15=17,DATE(2022,5,1),0)+IF(G15=18,DATE(2022,6,1),0)+IF(G15=19,DATE(2022,7,1),0)+IF(G15=20,DATE(2022,8,1),0)+IF(G15=21,DATE(2022,9,1),0)+IF(G15=22,DATE(2022,10,1),0)+IF(G15=23,DATE(2022,11,1),0)+IF(G15=24,DATE(2022,12,1),0) -> 44652
B16: CATEGORÍA TARIFARIA | C16: 1 | G16: =+G15+1 -> 17 | H16: =IF(G16=1,DATE(2021,1,1),0)+IF(G16=2,DATE(2021,2,1),0)+IF(G16=3,DATE(2021,3,1),0)+IF(G16=4,DATE(2021,4,1),0)+IF(G16=5,DATE(2021,5,1),0)+IF(G16=6,DATE(2021,6,1),0)+IF(G16=7,DATE(2021,7,1),0)+IF(G16=8,DATE(2021,8,1),0)+IF(G16=9,DATE(2021,9,1),0)+IF(G16=10,DATE(2021,10,1),0)+IF(G16=11,DATE(2021,11,1),0)+IF(G16=12,DATE(2021,12,1),0)+IF(G16=13,DATE(2022,1,1),0)+IF(G16=14,DATE(2022,2,1),0)+IF(G16=15,DATE(2022,3,1),0)+IF(G16=16,DATE(2022,4,1),0)+IF(G16=17,DATE(2022,5,1),0)+IF(G16=18,DATE(2022,6,1),0)+IF(G16=19,DATE(2022,7,1),0)+IF(G16=20,DATE(2022,8,1),0)+IF(G16=21,DATE(2022,9,1),0)+IF(G16=22,DATE(2022,10,1),0)+IF(G16=23,DATE(2022,11,1),0)+IF(G16=24,DATE(2022,12,1),0) -> 44682
G17: =+G16+1 -> 18 | H17: =IF(G17=1,DATE(2021,1,1),0)+IF(G17=2,DATE(2021,2,1),0)+IF(G17=3,DATE(2021,3,1),0)+IF(G17=4,DATE(2021,4,1),0)+IF(G17=5,DATE(2021,5,1),0)+IF(G17=6,DATE(2021,6,1),0)+IF(G17=7,DATE(2021,7,1),0)+IF(G17=8,DATE(2021,8,1),0)+IF(G17=9,DATE(2021,9,1),0)+IF(G17=10,DATE(2021,10,1),0)+IF(G17=11,DATE(2021,11,1),0)+IF(G17=12,DATE(2021,12,1),0)+IF(G17=13,DATE(2022,1,1),0)+IF(G17=14,DATE(2022,2,1),0)+IF(G17=15,DATE(2022,3,1),0)+IF(G17=16,DATE(2022,4,1),0)+IF(G17=17,DATE(2022,5,1),0)+IF(G17=18,DATE(2022,6,1),0)+IF(G17=19,DATE(2022,7,1),0)+IF(G17=20,DATE(2022,8,1),0)+IF(G17=21,DATE(2022,9,1),0)+IF(G17=22,DATE(2022,10,1),0)+IF(G17=23,DATE(2022,11,1),0)+IF(G17=24,DATE(2022,12,1),0) -> 44713
G18: =+G17+1 -> 19 | H18: =IF(G18=1,DATE(2021,1,1),0)+IF(G18=2,DATE(2021,2,1),0)+IF(G18=3,DATE(2021,3,1),0)+IF(G18=4,DATE(2021,4,1),0)+IF(G18=5,DATE(2021,5,1),0)+IF(G18=6,DATE(2021,6,1),0)+IF(G18=7,DATE(2021,7,1),0)+IF(G18=8,DATE(2021,8,1),0)+IF(G18=9,DATE(2021,9,1),0)+IF(G18=10,DATE(2021,10,1),0)+IF(G18=11,DATE(2021,11,1),0)+IF(G18=12,DATE(2021,12,1),0)+IF(G18=13,DATE(2022,1,1),0)+IF(G18=14,DATE(2022,2,1),0)+IF(G18=15,DATE(2022,3,1),0)+IF(G18=16,DATE(2022,4,1),0)+IF(G18=17,DATE(2022,5,1),0)+IF(G18=18,DATE(2022,6,1),0)+IF(G18=19,DATE(2022,7,1),0)+IF(G18=20,DATE(2022,8,1),0)+IF(G18=21,DATE(2022,9,1),0)+IF(G18=22,DATE(2022,10,1),0)+IF(G18=23,DATE(2022,11,1),0)+IF(G18=24,DATE(2022,12,1),0) -> 44743
B19: Potencia Contratada | C19: 17 | D19: KW
B20: Consumo mensual | C20: Consumo en Alta (kw/h) | D20: Consumo en Baja (kw/h) | E20: Consumo Total (kw/h) | F20: Potencia contratada (Kw)
B21: 44013 | C21: 76.417749 | D21: 1618.5065 | E21: =D21+C21 -> 1694.9242 | F21: =$C$19 -> 17
B22: 44044 | C22: 307.88897 | D22: 2696.8577 | E22: =D22+C22 -> 3004.7467 | F22: =$C$19 -> 17
B23: 44075 | C23: 580.23667 | D23: 3233.1895 | E23: =D23+C23 -> 3813.4262 | F23: =$C$19 -> 17
B24: 44105 | C24: 693.05387 | D24: 3565.0645 | E24: =D24+C24 -> 4258.1184 | F24: =$C$19 -> 17
B25: 44136 | C25: 1151.4333 | D25: 3919.1772 | E25: =D25+C25 -> 5070.6105 | F25: =$C$19 -> 17
B26: 44166 | C26: 1068.0998 | D26: 3231.3831 | E26: =D26+C26 -> 4299.4829 | F26: =$C$19 -> 17
B27: 44197 | C27: 548.65858 | D27: 3452.8356 | E27: =D27+C27 -> 4001.4941 | F27: =$C$19 -> 17
B28: 44228 | C28: 488.59307 | D28: 2912.3755 | E28: =D28+C28 -> 3400.9686 | F28: =$C$19 -> 17
B29: 44256 | C29: 245.68723 | D29: 2761.0768 | E29: =D29+C29 -> 3006.7641 | F29: =$C$19 -> 17
B30: 44287 | C30: 306.29329 | D30: 1892.132 | E30: =D30+C30 -> 2198.4253 | F30: =$C$19 -> 17
B31: 44317 | C31: 65.021645 | D31: 1628.0047 | E31: =D31+C31 -> 1693.0264 | F31: =$C$19 -> 17
B32: 44348 | C32: 129.39679 | D32: 1062.0252 | E32: =D32+C32 -> 1191.422 | F32: =$C$19 -> 17
C33: Consumo en Alta (kw/h) | D33: Consumo en Alta (kw/h) | F33: Potencia contratada (Kw)
B34: Variación estimada en la temporada entrante | C34: 0 | D34: 0 | F34: 0 | G34: Al colocar el valor 0% se asume que el consumo eléctrico desde julio de 2021 en adelante se mantendrá en los mismos niveles que los observados en los respectivos meses ingresados
C36: Provincial | D36: Nacional
B37: Incremento en la factura electrica 2021 | C37: 0.168 | D37: 0
B38: Nota: los costos considerados en el análisis son los referentes a: cargo fijo, uso de red, consumo de energía en alta y baja, cargo transitorio Res. 1866/05, subsidio por riego agrícola, impuestos provinciales Ley 6922/8398, IVA, tasa de fiscalización y control, contribución para compensación de costos eléctricos (CCCE) e impuesto a los sellos. Se asumen solo consumos no excedidos.

Sheet Resultado
B2: Facturación sin Estabilización | C2: Facturación con Estabilización | D2: Ajuste | E2: Ahorro/Desahorro (eje derecho) | F2: Ahorro/Desahorro
A3: =+'Carga de datos'!H7 -> 44409 | B3: =IF(A3=DATE(2021,1,1),'Calculos Sin Estabilizacion'!$D$177,0)+IF(A3=DATE(2021,2,1),'Calculos Sin Estabilizacion'!$D$178,0)+IF(A3=DATE(2021,3,1),'Calculos Sin Estabilizacion'!$D$179,0)+IF(A3=DATE(2021,4,1),'Calculos Sin Estabilizacion'!$D$180,0)+IF(A3=DATE(2021,5,1),'Calculos Sin Estabilizacion'!$D$181,0)+IF(A3=DATE(2021,6,1),'Calculos Sin Estabilizacion'!$D$182,0)+IF(A3=DATE(2021,7,1),'Calculos Sin Estabilizacion'!$D$183,0)+IF(A3=DATE(2021,8,1),'Calculos Sin Estabilizacion'!$D$184,0)+IF(A3=DATE(2021,9,1),'Calculos Sin Estabilizacion'!$D$185,0)+IF(A3=DATE(2021,10,1),'Calculos Sin Estabilizacion'!$D$186,0)+IF(A3=DATE(2021,11,1),'Calculos Sin Estabilizacion'!$D$187,0)+IF(A3=DATE(2021,12,1),'Calculos Sin Estabilizacion'!$D$188,0)+IF(A3=DATE(2022,1,1),'Calculos Sin Estabilizacion'!$D$189,0)+IF(A3=DATE(2022,2,1),'Calculos Sin Estabilizacion'!$D$190,0)+IF(A3=DATE(2022,3,1),'Calculos Sin Estabilizacion'!$D$191,0)+IF(A3=DATE(2022,4,1),'Calculos Sin Estabilizacion'!$D$192,0)+IF(A3=DATE(2022,5,1),'Calculos Sin Estabilizacion'!$D$193,0)+IF(A3=DATE(2022,6,1),'Calculos Sin Estabilizacion'!$D$194,0)+IF(A3=DATE(2022,7,1),'Calculos Sin Estabilizacion'!$D$195,0) -> 10301.143 | C3: =IF(A3=DATE(2021,1,1),'Calculos Con Estabilizacion'!$D$177,0)+IF(A3=DATE(2021,2,1),'Calculos Con Estabilizacion'!$D$178,0)+IF(A3=DATE(2021,3,1),'Calculos Con Estabilizacion'!$D$179,0)+IF(A3=DATE(2021,4,1),'Calculos Con Estabilizacion'!$D$180,0)+IF(A3=DATE(2021,5,1),'Calculos Con Estabilizacion'!$D$181,0)+IF(A3=DATE(2021,6,1),'Calculos Con Estabilizacion'!$D$182,0)+IF(A3=DATE(2021,7,1),'Calculos Con Estabilizacion'!$D$183,0)+IF(A3=DATE(2021,8,1),'Calculos Con Estabilizacion'!$D$184,0)+IF(A3=DATE(2021,9,1),'Calculos Con Estabilizacion'!$D$185,0)+IF(A3=DATE(2021,10,1),'Calculos Con Estabilizacion'!$D$186,0)+IF(A3=DATE(2021,11,1),'Calculos Con Estabilizacion'!$D$187,0)+IF(A3=DATE(2021,12,1),'Calculos Con Estabilizacion'!$D$188,0)+IF(A3=DATE(2022,1,1),'Calculos Con Estabilizacion'!$D$189,0)+IF(A3=DATE(2022,2,1),'Calculos Con Estabilizacion'!$D$190,0)+IF(A3=DATE(2022,3,1),'Calculos Con Estabilizacion'!$D$191,0)+IF(A3=DATE(2022,4,1),'Calculos Con Estabilizacion'!$D$192,0)+IF(A3=DATE(2022,5,1),'Calculos Con Estabilizacion'!$D$193,0)+IF(A3=DATE(2022,6,1),'Calculos Con Estabilizacion'!$D$194,0)+IF(A3=DATE(2022,7,1),'Calculos Con Estabilizacion'!$D$195,0)+D3 -> 7648.5041 | D3: =IF(A3=DATE(2022,7,1),(IF('Carga de datos'!$G$7=8,'Calculos Sin Estabilizacion'!$E$184,0)+IF('Carga de datos'!$G$7=9,'Calculos Sin Estabilizacion'!$E$185,0)+IF('Carga de datos'!$G$7=10,'Calculos Sin Estabilizacion'!$E$186,0)+IF('Carga de datos'!$G$7=11,'Calculos Sin Estabilizacion'!$E$187,0)+IF('Carga de datos'!$G$7=12,'Calculos Sin Estabilizacion'!$E$188,0)+IF('Carga de datos'!$G$7=13,'Calculos Sin Estabilizacion'!$E$189,0)+IF('Carga de datos'!$G$7=14,'Calculos Sin Estabilizacion'!$E$190,0)+IF('Carga de datos'!$G$7=15,'Calculos Sin Estabilizacion'!$E$191,0)+IF('Carga de datos'!$G$7=16,'Calculos Sin Estabilizacion'!$E$192,0)+IF('Carga de datos'!$G$7=17,'Calculos Sin Estabilizacion'!$E$193,0)+IF('Carga de datos'!$G$7=18,'Calculos Sin Estabilizacion'!$E$194,0)+IF('Carga de datos'!$G$7=19,'Calculos Sin Estabilizacion'!$E$195,0))-(IF('Carga de datos'!$G$7=8,'Calculos Con Estabilizacion'!$E$184,0)+IF('Carga de datos'!$G$7=9,'Calculos Con Estabilizacion'!$E$185,0)+IF('Carga de datos'!$G$7=10,'Calculos Con Estabilizacion'!$E$186,0)+IF('Carga de datos'!$G$7=11,'Calculos Con Estabilizacion'!$E$187,0)+IF('Carga de datos'!$G$7=12,'Calculos Con Estabilizacion'!$E$188,0)+IF('Carga de datos'!$G$7=13,'Calculos Con Estabilizacion'!$E$189,0)+IF('Carga de datos'!$G$7=14,'Calculos Con Estabilizacion'!$E$190,0)+IF('Carga de datos'!$G$7=15,'Calculos Con Estabilizacion'!$E$191,0)+IF('Carga de datos'!$G$7=16,'Calculos Con Estabilizacion'!$E$192,0)+IF('Carga de datos'!$G$7=17,'Calculos Con Estabilizacion'!$E$193,0)+IF('Carga de datos'!$G$7=18,'Calculos Con Estabilizacion'!$E$194,0)+IF('Carga de datos'!$G$7=19,'Calculos Con Estabilizacion'!$E$195,0)),0) -> 0 | E3: =B3-C3 -> 2652.6394 | F3: =IF(E3>=0,E3,) -> 2652.6394
A4: =+'Carga de datos'!H8 -> 44440 | B4: =IF(A4=DATE(2021,1,1),'Calculos Sin Estabilizacion'!$D$177,0)+IF(A4=DATE(2021,2,1),'Calculos Sin Estabilizacion'!$D$178,0)+IF(A4=DATE(2021,3,1),'Calculos Sin Estabilizacion'!$D$179,0)+IF(A4=DATE(2021,4,1),'Calculos Sin Estabilizacion'!$D$180,0)+IF(A4=DATE(2021,5,1),'Calculos Sin Estabilizacion'!$D$181,0)+IF(A4=DATE(2021,6,1),'Calculos Sin Estabilizacion'!$D$182,0)+IF(A4=DATE(2021,7,1),'Calculos Sin Estabilizacion'!$D$183,0)+IF(A4=DATE(2021,8,1),'Calculos Sin Estabilizacion'!$D$184,0)+IF(A4=DATE(2021,9,1),'Calculos Sin Estabilizacion'!$D$185,0)+IF(A4=DATE(2021,10,1),'Calculos Sin Estabilizacion'!$D$186,0)+IF(A4=DATE(2021,11,1),'Calculos Sin Estabilizacion'!$D$187,0)+IF(A4=DATE(2021,12,1),'Calculos Sin Estabilizacion'!$D$188,0)+IF(A4=DATE(2022,1,1),'Calculos Sin Estabilizacion'!$D$189,0)+IF(A4=DATE(2022,2,1),'Calculos Sin Estabilizacion'!$D$190,0)+IF(A4=DATE(2022,3,1),'Calculos Sin Estabilizacion'!$D$191,0)+IF(A4=DATE(2022,4,1),'Calculos Sin Estabilizacion'!$D$192,0)+IF(A4=DATE(2022,5,1),'Calculos Sin Estabilizacion'!$D$193,0)+IF(A4=DATE(2022,6,1),'Calculos Sin Estabilizacion'!$D$194,0)+IF(A4=DATE(2022,7,1),'Calculos Sin Estabilizacion'!$D$195,0) -> 13397.119 | C4: =IF(A4=DATE(2021,1,1),'Calculos Con Estabilizacion'!$D$177,0)+IF(A4=DATE(2021,2,1),'Calculos Con Estabilizacion'!$D$178,0)+IF(A4=DATE(2021,3,1),'Calculos Con Estabilizacion'!$D$179,0)+IF(A4=DATE(2021,4,1),'Calculos Con Estabilizacion'!$D$180,0)+IF(A4=DATE(2021,5,1),'Calculos Con Estabilizacion'!$D$181,0)+IF(A4=DATE(2021,6,1),'Calculos Con Estabilizacion'!$D$182,0)+IF(A4=DATE(2021,7,1),'Calculos Con Estabilizacion'!$D$183,0)+IF(A4=DATE(2021,8,1),'Calculos Con Estabilizacion'!$D$184,0)+IF(A4=DATE(2021,9,1),'Calculos Con Estabilizacion'!$D$185,0)+IF(A4=DATE(2021,10,1),'Calculos Con Estabilizacion'!$D$186,0)+IF(A4=DATE(2021,11,1),'Calculos Con Estabilizacion'!$D$187,0)+IF(A4=DATE(2021,12,1),'Calculos Con Estabilizacion'!$D$188,0)+IF(A4=DATE(2022,1,1),'Calculos Con Estabilizacion'!$D$189,0)+IF(A4=DATE(2022,2,1),'Calculos Con Estabilizacion'!$D$190,0)+IF(A4=DATE(2022,3,1),'Calculos Con Estabilizacion'!$D$191,0)+IF(A4=DATE(2022,4,1),'Calculos Con Estabilizacion'!$D$192,0)+IF(A4=DATE(2022,5,1),'Calculos Con Estabilizacion'!$D$193,0)+IF(A4=DATE(2022,6,1),'Calculos Con Estabilizacion'!$D$194,0)+IF(A4=DATE(2022,7,1),'Calculos Con Estabilizacion'!$D$195,0)+D4 -> 8211.0274 | D4: =IF(A4=DATE(2022,7,1),(IF('Carga de datos'!$G$7=8,'Calculos Sin Estabilizacion'!$E$184,0)+IF('Carga de datos'!$G$7=9,'Calculos Sin Estabilizacion'!$E$185,0)+IF('Carga de datos'!$G$7=10,'Calculos Sin Estabilizacion'!$E$186,0)+IF('Carga de datos'!$G$7=11,'Calculos Sin Estabilizacion'!$E$187,0)+IF('Carga de datos'!$G$7=12,'Calculos Sin Estabilizacion'!$E$188,0)+IF('Carga de datos'!$G$7=13,'Calculos Sin Estabilizacion'!$E$189,0)+IF('Carga de datos'!$G$7=14,'Calculos Sin Estabilizacion'!$E$190,0)+IF('Carga de datos'!$G$7=15,'Calculos Sin Estabilizacion'!$E$191,0)+IF('Carga de datos'!$G$7=16,'Calculos Sin Estabilizacion'!$E$192,0)+IF('Carga de datos'!$G$7=17,'Calculos Sin Estabilizacion'!$E$193,0)+IF('Carga de datos'!$G$7=18,'Calculos Sin Estabilizacion'!$E$194,0)+IF('Carga de datos'!$G$7=19,'Calculos Sin Estabilizacion'!$E$195,0))-(IF('Carga de datos'!$G$7=8,'Calculos Con Estabilizacion'!$E$184,0)+IF('Carga de datos'!$G$7=9,'Calculos Con Estabilizacion'!$E$185,0)+IF('Carga de datos'!$G$7=10,'Calculos Con Estabilizacion'!$E$186,0)+IF('Carga de datos'!$G$7=11,'Calculos Con Estabilizacion'!$E$187,0)+IF('Carga de datos'!$G$7=12,'Calculos Con Estabilizacion'!$E$188,0)+IF('Carga de datos'!$G$7=13,'Calculos Con Estabilizacion'!$E$189,0)+IF('Carga de datos'!$G$7=14,'Calculos Con Estabilizacion'!$E$190,0)+IF('Carga de datos'!$G$7=15,'Calculos Con Estabilizacion'!$E$191,0)+IF('Carga de datos'!$G$7=16,'Calculos Con Estabilizacion'!$E$192,0)+IF('Carga de datos'!$G$7=17,'Calculos Con Estabilizacion'!$E$193,0)+IF('Carga de datos'!$G$7=18,'Calculos Con Estabilizacion'!$E$194,0)+IF('Carga de datos'!$G$7=19,'Calculos Con Estabilizacion'!$E$195,0)),0) -> 0 | E4: =B4-C4 -> 5186.0911 | F4: =IF(E4>=0,E4,) -> 5186.0911
A5: =+'Carga de datos'!H9 -> 44470 | B5: =IF(A5=DATE(2021,1,1),'Calculos Sin Estabilizacion'!$D$177,0)+IF(A5=DATE(2021,2,1),'Calculos Sin Estabilizacion'!$D$178,0)+IF(A5=DATE(2021,3,1),'Calculos Sin Estabilizacion'!$D$179,0)+IF(A5=DATE(2021,4,1),'Calculos Sin Estabilizacion'!$D$180,0)+IF(A5=DATE(2021,5,1),'Calculos Sin Estabilizacion'!$D$181,0)+IF(A5=DATE(2021,6,1),'Calculos Sin Estabilizacion'!$D$182,0)+IF(A5=DATE(2021,7,1),'Calculos Sin Estabilizacion'!$D$183,0)+IF(A5=DATE(2021,8,1),'Calculos Sin Estabilizacion'!$D$184,0)+IF(A5=DATE(2021,9,1),'Calculos Sin Estabilizacion'!$D$185,0)+IF(A5=DATE(2021,10,1),'Calculos Sin Estabilizacion'!$D$186,0)+IF(A5=DATE(2021,11,1),'Calculos Sin Estabilizacion'!$D$187,0)+IF(A5=DATE(2021,12,1),'Calculos Sin Estabilizacion'!$D$188,0)+IF(A5=DATE(2022,1,1),'Calculos Sin Estabilizacion'!$D$189,0)+IF(A5=DATE(2022,2,1),'Calculos Sin Estabilizacion'!$D$190,0)+IF(A5=DATE(2022,3,1),'Calculos Sin Estabilizacion'!$D$191,0)+IF(A5=DATE(2022,4,1),'Calculos Sin Estabilizacion'!$D$192,0)+IF(A5=DATE(2022,5,1),'Calculos Sin Estabilizacion'!$D$193,0)+IF(A5=DATE(2022,6,1),'Calculos Sin Estabilizacion'!$D$194,0)+IF(A5=DATE(2022,7,1),'Calculos Sin Estabilizacion'!$D$195,0) -> 14973.335 | C5: =IF(A5=DATE(2021,1,1),'Calculos Con Estabilizacion'!$D$177,0)+IF(A5=DATE(2021,2,1),'Calculos Con Estabilizacion'!$D$178,0)+IF(A5=DATE(2021,3,1),'Calculos Con Estabilizacion'!$D$179,0)+IF(A5=DATE(2021,4,1),'Calculos Con Estabilizacion'!$D$180,0)+IF(A5=DATE(2021,5,1),'Calculos Con Estabilizacion'!$D$181,0)+IF(A5=DATE(2021,6,1),'Calculos Con Estabilizacion'!$D$182,0)+IF(A5=DATE(2021,7,1),'Calculos Con Estabilizacion'!$D$183,0)+IF(A5=DATE(2021,8,1),'Calculos Con Estabilizacion'!$D$184,0)+IF(A5=DATE(2021,9,1),'Calculos Con Estabilizacion'!$D$185,0)+IF(A5=DATE(2021,10,1),'Calculos Con Estabilizacion'!$D$186,0)+IF(A5=DATE(2021,11,1),'Calculos Con Estabilizacion'!$D$187,0)+IF(A5=DATE(2021,12,1),'Calculos Con Estabilizacion'!$D$188,0)+IF(A5=DATE(2022,1,1),'Calculos Con Estabilizacion'!$D$189,0)+IF(A5=DATE(2022,2,1),'Calculos Con Estabilizacion'!$D$190,0)+IF(A5=DATE(2022,3,1),'Calculos Con Estabilizacion'!$D$191,0)+IF(A5=DATE(2022,4,1),'Calculos Con Estabilizacion'!$D$192,0)+IF(A5=DATE(2022,5,1),'Calculos Con Estabilizacion'!$D$193,0)+IF(A5=DATE(2022,6,1),'Calculos Con Estabilizacion'!$D$194,0)+IF(A5=DATE(2022,7,1),'Calculos Con Estabilizacion'!$D$195,0)+D5 -> 9324.2733 | D5: =IF(A5=DATE(2022,7,1),(IF('Carga de datos'!$G$7=8,'Calculos Sin Estabilizacion'!$E$184,0)+IF('Carga de datos'!$G$7=9,'Calculos Sin Estabilizacion'!$E$185,0)+IF('Carga de datos'!$G$7=10,'Calculos Sin Estabilizacion'!$E$186,0)+IF('Carga de datos'!$G$7=11,'Calculos Sin Estabilizacion'!$E$187,0)+IF('Carga de datos'!$G$7=12,'Calculos Sin Estabilizacion'!$E$188,0)+IF('Carga de datos'!$G$7=13,'Calculos Sin Estabilizacion'!$E$189,0)+IF('Carga de datos'!$G$7=14,'Calculos Sin Estabilizacion'!$E$190,0)+IF('Carga de datos'!$G$7=15,'Calculos Sin Estabilizacion'!$E$191,0)+IF('Carga de datos'!$G$7=16,'Calculos Sin Estabilizacion'!$E$192,0)+IF('Carga de datos'!$G$7=17,'Calculos Sin Estabilizacion'!$E$193,0)+IF('Carga de datos'!$G$7=18,'Calculos Sin Estabilizacion'!$E$194,0)+IF('Carga de datos'!$G$7=19,'Calculos Sin Estabilizacion'!$E$195,0))-(IF('Carga de datos'!$G$7=8,'Calculos Con Estabilizacion'!$E$184,0)+IF('Carga de datos'!$G$7=9,'Calculos Con Estabilizacion'!$E$185,0)+IF('Carga de datos'!$G$7=10,'Calculos Con Estabilizacion'!$E$186,0)+IF('Carga de datos'!$G$7=11,'Calculos Con Estabilizacion'!$E$187,0)+IF('Carga de datos'!$G$7=12,'Calculos Con Estabilizacion'!$E$188,0)+IF('Carga de datos'!$G$7=13,'Calculos Con Estabilizacion'!$E$189,0)+IF('Carga de datos'!$G$7=14,'Calculos Con Estabilizacion'!$E$190,0)+IF('Carga de datos'!$G$7=15,'Calculos Con Estabilizacion'!$E$191,0)+IF('Carga de datos'!$G$7=16,'Calculos Con Estabilizacion'!$E$192,0)+IF('Carga de datos'!$G$7=17,'Calculos Con Estabilizacion'!$E$193,0)+IF('Carga de datos'!$G$7=18,'Calculos Con Estabilizacion'!$E$194,0)+IF('Carga de datos'!$G$7=19,'Calculos Con Estabilizacion'!$E$195,0)),0) -> 0 | E5: =B5-C5 -> 5649.0613 | F5: =IF(E5>=0,E5,) -> 5649.0613
A6: =+'Carga de datos'!H10 -> 44501 | B6: =IF(A6=DATE(2021,1,1),'Calculos Sin Estabilizacion'!$D$177,0)+IF(A6=DATE(2021,2,1),'Calculos Sin Estabilizacion'!$D$178,0)+IF(A6=DATE(2021,3,1),'Calculos Sin Estabilizacion'!$D$179,0)+IF(A6=DATE(2021,4,1),'Calculos Sin Estabilizacion'!$D$180,0)+IF(A6=DATE(2021,5,1),'Calculos Sin Estabilizacion'!$D$181,0)+IF(A6=DATE(2021,6,1),'Calculos Sin Estabilizacion'!$D$182,0)+IF(A6=DATE(2021,7,1),'Calculos Sin Estabilizacion'!$D$183,0)+IF(A6=DATE(2021,8,1),'Calculos Sin Estabilizacion'!$D$184,0)+IF(A6=DATE(2021,9,1),'Calculos Sin Estabilizacion'!$D$185,0)+IF(A6=DATE(2021,10,1),'Calculos Sin Estabilizacion'!$D$186,0)+IF(A6=DATE(2021,11,1),'Calculos Sin Estabilizacion'!$D$187,0)+IF(A6=DATE(2021,12,1),'Calculos Sin Estabilizacion'!$D$188,0)+IF(A6=DATE(2022,1,1),'Calculos Sin Estabilizacion'!$D$189,0)+IF(A6=DATE(2022,2,1),'Calculos Sin Estabilizacion'!$D$190,0)+IF(A6=DATE(2022,3,1),'Calculos Sin Estabilizacion'!$D$191,0)+IF(A6=DATE(2022,4,1),'Calculos Sin Estabilizacion'!$D$192,0)+IF(A6=DATE(2022,5,1),'Calculos Sin Estabilizacion'!$D$193,0)+IF(A6=DATE(2022,6,1),'Calculos Sin Estabilizacion'!$D$194,0)+IF(A6=DATE(2022,7,1),'Calculos Sin Estabilizacion'!$D$195,0) -> 18731.228 | C6: =IF(A6=DATE(2021,1,1),'Calculos Con Estabilizacion'!$D$177,0)+IF(A6=DATE(2021,2,1),'Calculos Con Estabilizacion'!$D$178,0)+IF(A6=DATE(2021,3,1),'Calculos Con Estabilizacion'!$D$179,0)+IF(A6=DATE(2021,4,1),'Calculos Con Estabilizacion'!$D$180,0)+IF(A6=DATE(2021,5,1),'Calculos Con Estabilizacion'!$D$181,0)+IF(A6=DATE(2021,6,1),'Calculos Con Estabilizacion'!$D$182,0)+IF(A6=DATE(2021,7,1),'Calculos Con Estabilizacion'!$D$183,0)+IF(A6=DATE(2021,8,1),'Calculos Con Estabilizacion'!$D$184,0)+IF(A6=DATE(2021,9,1),'Calculos Con Estabilizacion'!$D$185,0)+IF(A6=DATE(2021,10,1),'Calculos Con Estabilizacion'!$D$186,0)+IF(A6=DATE(2021,11,1),'Calculos Con Estabilizacion'!$D$187,0)+IF(A6=DATE(2021,12,1),'Calculos Con Estabilizacion'!$D$188,0)+IF(A6=DATE(2022,1,1),'Calculos Con Estabilizacion'!$D$189,0)+IF(A6=DATE(2022,2,1),'Calculos Con Estabilizacion'!$D$190,0)+IF(A6=DATE(2022,3,1),'Calculos Con Estabilizacion'!$D$191,0)+IF(A6=DATE(2022,4,1),'Calculos Con Estabilizacion'!$D$192,0)+IF(A6=DATE(2022,5,1),'Calculos Con Estabilizacion'!$D$193,0)+IF(A6=DATE(2022,6,1),'Calculos Con Estabilizacion'!$D$194,0)+IF(A6=DATE(2022,7,1),'Calculos Con Estabilizacion'!$D$195,0)+D6 -> 11428.089 | D6: =IF(A6=DATE(2022,7,1),(IF('Carga de datos'!$G$7=8,'Calculos Sin Estabilizacion'!$E$184,0)+IF('Carga de datos'!$G$7=9,'Calculos Sin Estabilizacion'!$E$185,0)+IF('Carga de datos'!$G$7=10,'Calculos Sin Estabilizacion'!$E$186,0)+IF('Carga de datos'!$G$7=11,'Calculos Sin Estabilizacion'!$E$187,0)+IF('Carga de datos'!$G$7=12,'Calculos Sin Estabilizacion'!$E$188,0)+IF('Carga de datos'!$G$7=13,'Calculos Sin Estabilizacion'!$E$189,0)+IF('Carga de datos'!$G$7=14,'Calculos Sin Estabilizacion'!$E$190,0)+IF('Carga de datos'!$G$7=15,'Calculos Sin Estabilizacion'!$E$191,0)+IF('Carga de datos'!$G$7=16,'Calculos Sin Estabilizacion'!$E$192,0)+IF('Carga de datos'!$G$7=17,'Calculos Sin Estabilizacion'!$E$193,0)+IF('Carga de datos'!$G$7=18,'Calculos Sin Estabilizacion'!$E$194,0)+IF('Carga de datos'!$G$7=19,'Calculos Sin Estabilizacion'!$E$195,0))-(IF('Carga de datos'!$G$7=8,'Calculos Con Estabilizacion'!$E$184,0)+IF('Carga de datos'!$G$7=9,'Calculos Con Estabilizacion'!$E$185,0)+IF('Carga de datos'!$G$7=10,'Calculos Con Estabilizacion'!$E$186,0)+IF('Carga de datos'!$G$7=11,'Calculos Con Estabilizacion'!$E$187,0)+IF('Carga de datos'!$G$7=12,'Calculos Con Estabilizacion'!$E$188,0)+IF('Carga de datos'!$G$7=13,'Calculos Con Estabilizacion'!$E$189,0)+IF('Carga de datos'!$G$7=14,'Calculos Con Estabilizacion'!$E$190,0)+IF('Carga de datos'!$G$7=15,'Calculos Con Estabilizacion'!$E$191,0)+IF('Carga de datos'!$G$7=16,'Calculos Con Estabilizacion'!$E$192,0)+IF('Carga de datos'!$G$7=17,'Calculos Con Estabilizacion'!$E$193,0)+IF('Carga de datos'!$G$7=18,'Calculos Con Estabilizacion'!$E$194,0)+IF('Carga de datos'!$G$7=19,'Calculos Con Estabilizacion'!$E$195,0)),0) -> 0 | E6: =B6-C6 -> 7303.1387 | F6: =IF(E6>=0,E6,) -> 7303.1387
A7: =+'Carga de datos'!H11 -> 44531 | B7: =IF(A7=DATE(2021,1,1),'Calculos Sin Estabilizacion'!$D$177,0)+IF(A7=DATE(2021,2,1),'Calculos Sin Estabilizacion'!$D$178,0)+IF(A7=DATE(2021,3,1),'Calculos Sin Estabilizacion'!$D$179,0)+IF(A7=DATE(2021,4,1),'Calculos Sin Estabilizacion'!$D$180,0)+IF(A7=DATE(2021,5,1),'Calculos Sin Estabilizacion'!$D$181,0)+IF(A7=DATE(2021,6,1),'Calculos Sin Estabilizacion'!$D$182,0)+IF(A7=DATE(2021,7,1),'Calculos Sin Estabilizacion'!$D$183,0)+IF(A7=DATE(2021,8,1),'Calculos Sin Estabilizacion'!$D$184,0)+IF(A7=DATE(2021,9,1),'Calculos Sin Estabilizacion'!$D$185,0)+IF(A7=DATE(2021,10,1),'Calculos Sin Estabilizacion'!$D$186,0)+IF(A7=DATE(2021,11,1),'Calculos Sin Estabilizacion'!$D$187,0)+IF(A7=DATE(2021,12,1),'Calculos Sin Estabilizacion'!$D$188,0)+IF(A7=DATE(2022,1,1),'Calculos Sin Estabilizacion'!$D$189,0)+IF(A7=DATE(2022,2,1),'Calculos Sin Estabilizacion'!$D$190,0)+IF(A7=DATE(2022,3,1),'Calculos Sin Estabilizacion'!$D$191,0)+IF(A7=DATE(2022,4,1),'Calculos Sin Estabilizacion'!$D$192,0)+IF(A7=DATE(2022,5,1),'Calculos Sin Estabilizacion'!$D$193,0)+IF(A7=DATE(2022,6,1),'Calculos Sin Estabilizacion'!$D$194,0)+IF(A7=DATE(2022,7,1),'Calculos Sin Estabilizacion'!$D$195,0) -> 16513.26 | C7: =IF(A7=DATE(2021,1,1),'Calculos Con Estabilizacion'!$D$177,0)+IF(A7=DATE(2021,2,1),'Calculos Con Estabilizacion'!$D$178,0)+IF(A7=DATE(2021,3,1),'Calculos Con Estabilizacion'!$D$179,0)+IF(A7=DATE(2021,4,1),'Calculos Con Estabilizacion'!$D$180,0)+IF(A7=DATE(2021,5,1),'Calculos Con Estabilizacion'!$D$181,0)+IF(A7=DATE(2021,6,1),'Calculos Con Estabilizacion'!$D$182,0)+IF(A7=DATE(2021,7,1),'Calculos Con Estabilizacion'!$D$183,0)+IF(A7=DATE(2021,8,1),'Calculos Con Estabilizacion'!$D$184,0)+IF(A7=DATE(2021,9,1),'Calculos Con Estabilizacion'!$D$185,0)+IF(A7=DATE(2021,10,1),'Calculos Con Estabilizacion'!$D$186,0)+IF(A7=DATE(2021,11,1),'Calculos Con Estabilizacion'!$D$187,0)+IF(A7=DATE(2021,12,1),'Calculos Con Estabilizacion'!$D$188,0)+IF(A7=DATE(2022,1,1),'Calculos Con Estabilizacion'!$D$189,0)+IF(A7=DATE(2022,2,1),'Calculos Con Estabilizacion'!$D$190,0)+IF(A7=DATE(2022,3,1),'Calculos Con Estabilizacion'!$D$191,0)+IF(A7=DATE(2022,4,1),'Calculos Con Estabilizacion'!$D$192,0)+IF(A7=DATE(2022,5,1),'Calculos Con Estabilizacion'!$D$193,0)+IF(A7=DATE(2022,6,1),'Calculos Con Estabilizacion'!$D$194,0)+IF(A7=DATE(2022,7,1),'Calculos Con Estabilizacion'!$D$195,0)+D7 -> 13339.178 | D7: =IF(A7=DATE(2022,7,1),(IF('Carga de datos'!$G$7=8,'Calculos Sin Estabilizacion'!$E$184,0)+IF('Carga de datos'!$G$7=9,'Calculos Sin Estabilizacion'!$E$185,0)+IF('Carga de datos'!$G$7=10,'Calculos Sin Estabilizacion'!$E$186,0)+IF('Carga de datos'!$G$7=11,'Calculos Sin Estabilizacion'!$E$187,0)+IF('Carga de datos'!$G$7=12,'Calculos Sin Estabilizacion'!$E$188,0)+IF('Carga de datos'!$G$7=13,'Calculos Sin Estabilizacion'!$E$189,0)+IF('Carga de datos'!$G$7=14,'Calculos Sin Estabilizacion'!$E$190,0)+IF('Carga de datos'!$G$7=15,'Calculos Sin Estabilizacion'!$E$191,0)+IF('Carga de datos'!$G$7=16,'Calculos Sin Estabilizacion'!$E$192,0)+IF('Carga de datos'!$G$7=17,'Calculos Sin Estabilizacion'!$E$193,0)+IF('Carga de datos'!$G$7=18,'Calculos Sin Estabilizacion'!$E$194,0)+IF('Carga de datos'!$G$7=19,'Calculos Sin Estabilizacion'!$E$195,0))-(IF('Carga de datos'!$G$7=8,'Calculos Con Estabilizacion'!$E$184,0)+IF('Carga de datos'!$G$7=9,'Calculos Con Estabilizacion'!$E$185,0)+IF('Carga de datos'!$G$7=10,'Calculos Con Estabilizacion'!$E$186,0)+IF('Carga de datos'!$G$7=11,'Calculos Con Estabilizacion'!$E$187,0)+IF('Carga de datos'!$G$7=12,'Calculos Con Estabilizacion'!$E$188,0)+IF('Carga de datos'!$G$7=13,'Calculos Con Estabilizacion'!$E$189,0)+IF('Carga de datos'!$G$7=14,'Calculos Con Estabilizacion'!$E$190,0)+IF('Carga de datos'!$G$7=15,'Calculos Con Estabilizacion'!$E$191,0)+IF('Carga de datos'!$G$7=16,'Calculos Con Estabilizacion'!$E$192,0)+IF('Carga de datos'!$G$7=17,'Calculos Con Estabilizacion'!$E$193,0)+IF('Carga de datos'!$G$7=18,'Calculos Con Estabilizacion'!$E$194,0)+IF('Carga de datos'!$G$7=19,'Calculos Con Estabilizacion'!$E$195,0)),0) -> 0 | E7: =B7-C7 -> 3174.0819 | F7: =IF(E7>=0,E7,) -> 3174.0819
A8: =+'Carga de datos'!H12 -> 44562 | B8: =IF(A8=DATE(2021,1,1),'Calculos Sin Estabilizacion'!$D$177,0)+IF(A8=DATE(2021,2,1),'Calculos Sin Estabilizacion'!$D$178,0)+IF(A8=DATE(2021,3,1),'Calculos Sin Estabilizacion'!$D$179,0)+IF(A8=DATE(2021,4,1),'Calculos Sin Estabilizacion'!$D$180,0)+IF(A8=DATE(2021,5,1),'Calculos Sin Estabilizacion'!$D$181,0)+IF(A8=DATE(2021,6,1),'Calculos Sin Estabilizacion'!$D$182,0)+IF(A8=DATE(2021,7,1),'Calculos Sin Estabilizacion'!$D$183,0)+IF(A8=DATE(2021,8,1),'Calculos Sin Estabilizacion'!$D$184,0)+IF(A8=DATE(2021,9,1),'Calculos Sin Estabilizacion'!$D$185,0)+IF(A8=DATE(2021,10,1),'Calculos Sin Estabilizacion'!$D$186,0)+IF(A8=DATE(2021,11,1),'Calculos Sin Estabilizacion'!$D$187,0)+IF(A8=DATE(2021,12,1),'Calculos Sin Estabilizacion'!$D$188,0)+IF(A8=DATE(2022,1,1),'Calculos Sin Estabilizacion'!$D$189,0)+IF(A8=DATE(2022,2,1),'Calculos Sin Estabilizacion'!$D$190,0)+IF(A8=DATE(2022,3,1),'Calculos Sin Estabilizacion'!$D$191,0)+IF(A8=DATE(2022,4,1),'Calculos Sin Estabilizacion'!$D$192,0)+IF(A8=DATE(2022,5,1),'Calculos Sin Estabilizacion'!$D$193,0)+IF(A8=DATE(2022,6,1),'Calculos Sin Estabilizacion'!$D$194,0)+IF(A8=DATE(2022,7,1),'Calculos Sin Estabilizacion'!$D$195,0) -> 13829.152 | C8: =IF(A8=DATE(2021,1,1),'Calculos Con Estabilizacion'!$D$177,0)+IF(A8=DATE(2021,2,1),'Calculos Con Estabilizacion'!$D$178,0)+IF(A8=DATE(2021,3,1),'Calculos Con Estabilizacion'!$D$179,0)+IF(A8=DATE(2021,4,1),'Calculos Con Estabilizacion'!$D$180,0)+IF(A8=DATE(2021,5,1),'Calculos Con Estabilizacion'!$D$181,0)+IF(A8=DATE(2021,6,1),'Calculos Con Estabilizacion'!$D$182,0)+IF(A8=DATE(2021,7,1),'Calculos Con Estabilizacion'!$D$183,0)+IF(A8=DATE(2021,8,1),'Calculos Con Estabilizacion'!$D$184,0)+IF(A8=DATE(2021,9,1),'Calculos Con Estabilizacion'!$D$185,0)+IF(A8=DATE(2021,10,1),'Calculos Con Estabilizacion'!$D$186,0)+IF(A8=DATE(2021,11,1),'Calculos Con Estabilizacion'!$D$187,0)+IF(A8=DATE(2021,12,1),'Calculos Con Estabilizacion'!$D$188,0)+IF(A8=DATE(2022,1,1),'Calculos Con Estabilizacion'!$D$189,0)+IF(A8=DATE(2022,2,1),'Calculos Con Estabilizacion'!$D$190,0)+IF(A8=DATE(2022,3,1),'Calculos Con Estabilizacion'!$D$191,0)+IF(A8=DATE(2022,4,1),'Calculos Con Estabilizacion'!$D$192,0)+IF(A8=DATE(2022,5,1),'Calculos Con Estabilizacion'!$D$193,0)+IF(A8=DATE(2022,6,1),'Calculos Con Estabilizacion'!$D$194,0)+IF(A8=DATE(2022,7,1),'Calculos Con Estabilizacion'!$D$195,0)+D8 -> 14624.206 | D8: =IF(A8=DATE(2022,7,1),(IF('Carga de datos'!$G$7=8,'Calculos Sin Estabilizacion'!$E$184,0)+IF('Carga de datos'!$G$7=9,'Calculos Sin Estabilizacion'!$E$185,0)+IF('Carga de datos'!$G$7=10,'Calculos Sin Estabilizacion'!$E$186,0)+IF('Carga de datos'!$G$7=11,'Calculos Sin Estabilizacion'!$E$187,0)+IF('Carga de datos'!$G$7=12,'Calculos Sin Estabilizacion'!$E$188,0)+IF('Carga de datos'!$G$7=13,'Calculos Sin Estabilizacion'!$E$189,0)+IF('Carga de datos'!$G$7=14,'Calculos Sin Estabilizacion'!$E$190,0)+IF('Carga de datos'!$G$7=15,'Calculos Sin Estabilizacion'!$E$191,0)+IF('Carga de datos'!$G$7=16,'Calculos Sin Estabilizacion'!$E$192,0)+IF('Carga de datos'!$G$7=17,'Calculos Sin Estabilizacion'!$E$193,0)+IF('Carga de datos'!$G$7=18,'Calculos Sin Estabilizacion'!$E$194,0)+IF('Carga de datos'!$G$7=19,'Calculos Sin Estabilizacion'!$E$195,0))-(IF('Carga de datos'!$G$7=8,'Calculos Con Estabilizacion'!$E$184,0)+IF('Carga de datos'!$G$7=9,'Calculos Con Estabilizacion'!$E$185,0)+IF('Carga de datos'!$G$7=10,'Calculos Con Estabilizacion'!$E$186,0)+IF('Carga de datos'!$G$7=11,'Calculos Con Estabilizacion'!$E$187,0)+IF('Carga de datos'!$G$7=12,'Calculos Con Estabilizacion'!$E$188,0)+IF('Carga de datos'!$G$7=13,'Calculos Con Estabilizacion'!$E$189,0)+IF('Carga de datos'!$G$7=14,'Calculos Con Estabilizacion'!$E$190,0)+IF('Carga de datos'!$G$7=15,'Calculos Con Estabilizacion'!$E$191,0)+IF('Carga de datos'!$G$7=16,'Calculos Con Estabilizacion'!$E$192,0)+IF('Carga de datos'!$G$7=17,'Calculos Con Estabilizacion'!$E$193,0)+IF('Carga de datos'!$G$7=18,'Calculos Con Estabilizacion'!$E$194,0)+IF('Carga de datos'!$G$7=19,'Calculos Con Estabilizacion'!$E$195,0)),0) -> 0 | E8: =B8-C8 -> -795.05439 | F8: =IF(E8>=0,E8,) -> 0
A9: =+'Carga de datos'!H13 -> 44593 | B9: =IF(A9=DATE(2021,1,1),'Calculos Sin Estabilizacion'!$D$177,0)+IF(A9=DATE(2021,2,1),'Calculos Sin Estabilizacion'!$D$178,0)+IF(A9=DATE(2021,3,1),'Calculos Sin Estabilizacion'!$D$179,0)+IF(A9=DATE(2021,4,1),'Calculos Sin Estabilizacion'!$D$180,0)+IF(A9=DATE(2021,5,1),'Calculos Sin Estabilizacion'!$D$181,0)+IF(A9=DATE(2021,6,1),'Calculos Sin Estabilizacion'!$D$182,0)+IF(A9=DATE(2021,7,1),'Calculos Sin Estabilizacion'!$D$183,0)+IF(A9=DATE(2021,8,1),'Calculos Sin Estabilizacion'!$D$184,0)+IF(A9=DATE(2021,9,1),'Calculos Sin Estabilizacion'!$D$185,0)+IF(A9=DATE(2021,10,1),'Calculos Sin Estabilizacion'!$D$186,0)+IF(A9=DATE(2021,11,1),'Calculos Sin Estabilizacion'!$D$187,0)+IF(A9=DATE(2021,12,1),'Calculos Sin Estabilizacion'!$D$188,0)+IF(A9=DATE(2022,1,1),'Calculos Sin Estabilizacion'!$D$189,0)+IF(A9=DATE(2022,2,1),'Calculos Sin Estabilizacion'!$D$190,0)+IF(A9=DATE(2022,3,1),'Calculos Sin Estabilizacion'!$D$191,0)+IF(A9=DATE(2022,4,1),'Calculos Sin Estabilizacion'!$D$192,0)+IF(A9=DATE(2022,5,1),'Calculos Sin Estabilizacion'!$D$193,0)+IF(A9=DATE(2022,6,1),'Calculos Sin Estabilizacion'!$D$194,0)+IF(A9=DATE(2022,7,1),'Calculos Sin Estabilizacion'!$D$195,0) -> 12053.636 | C9: =IF(A9=DATE(2021,1,1),'Calculos Con Estabilizacion'!$D$177,0)+IF(A9=DATE(2021,2,1),'Calculos Con Estabilizacion'!$D$178,0)+IF(A9=DATE(2021,3,1),'Calculos Con Estabilizacion'!$D$179,0)+IF(A9=DATE(2021,4,1),'Calculos Con Estabilizacion'!$D$180,0)+IF(A9=DATE(2021,5,1),'Calculos Con Estabilizacion'!$D$181,0)+IF(A9=DATE(2021,6,1),'Calculos Con Estabilizacion'!$D$182,0)+IF(A9=DATE(2021,7,1),'Calculos Con Estabilizacion'!$D$183,0)+IF(A9=DATE(2021,8,1),'Calculos Con Estabilizacion'!$D$184,0)+IF(A9=DATE(2021,9,1),'Calculos Con Estabilizacion'!$D$185,0)+IF(A9=DATE(2021,10,1),'Calculos Con Estabilizacion'!$D$186,0)+IF(A9=DATE(2021,11,1),'Calculos Con Estabilizacion'!$D$187,0)+IF(A9=DATE(2021,12,1),'Calculos Con Estabilizacion'!$D$188,0)+IF(A9=DATE(2022,1,1),'Calculos Con Estabilizacion'!$D$189,0)+IF(A9=DATE(2022,2,1),'Calculos Con Estabilizacion'!$D$190,0)+IF(A9=DATE(2022,3,1),'Calculos Con Estabilizacion'!$D$191,0)+IF(A9=DATE(2022,4,1),'Calculos Con Estabilizacion'!$D$192,0)+IF(A9=DATE(2022,5,1),'Calculos Con Estabilizacion'!$D$193,0)+IF(A9=DATE(2022,6,1),'Calculos Con Estabilizacion'!$D$194,0)+IF(A9=DATE(2022,7,1),'Calculos Con Estabilizacion'!$D$195,0)+D9 -> 14916.288 | D9: =IF(A9=DATE(2022,7,1),(IF('Carga de datos'!$G$7=8,'Calculos Sin Estabilizacion'!$E$184,0)+IF('Carga de datos'!$G$7=9,'Calculos Sin Estabilizacion'!$E$185,0)+IF('Carga de datos'!$G$7=10,'Calculos Sin Estabilizacion'!$E$186,0)+IF('Carga de datos'!$G$7=11,'Calculos Sin Estabilizacion'!$E$187,0)+IF('Carga de datos'!$G$7=12,'Calculos Sin Estabilizacion'!$E$188,0)+IF('Carga de datos'!$G$7=13,'Calculos Sin Estabilizacion'!$E$189,0)+IF('Carga de datos'!$G$7=14,'Calculos Sin Estabilizacion'!$E$190,0)+IF('Carga de datos'!$G$7=15,'Calculos Sin Estabilizacion'!$E$191,0)+IF('Carga de datos'!$G$7=16,'Calculos Sin Estabilizacion'!$E$192,0)+IF('Carga de datos'!$G$7=17,'Calculos Sin Estabilizacion'!$E$193,0)+IF('Carga de datos'!$G$7=18,'Calculos Sin Estabilizacion'!$E$194,0)+IF('Carga de datos'!$G$7=19,'Calculos Sin Estabilizacion'!$E$195,0))-(IF('Carga de datos'!$G$7=8,'Calculos Con Estabilizacion'!$E$184,0)+IF('Carga de datos'!$G$7=9,'Calculos Con Estabilizacion'!$E$185,0)+IF('Carga de datos'!$G$7=10,'Calculos Con Estabilizacion'!$E$186,0)+IF('Carga de datos'!$G$7=11,'Calculos Con Estabilizacion'!$E$187,0)+IF('Carga de datos'!$G$7=12,'Calculos Con Estabilizacion'!$E$188,0)+IF('Carga de datos'!$G$7=13,'Calculos Con Estabilizacion'!$E$189,0)+IF('Carga de datos'!$G$7=14,'Calculos Con Estabilizacion'!$E$190,0)+IF('Carga de datos'!$G$7=15,'Calculos Con Estabilizacion'!$E$191,0)+IF('Carga de datos'!$G$7=16,'Calculos Con Estabilizacion'!$E$192,0)+IF('Carga de datos'!$G$7=17,'Calculos Con Estabilizacion'!$E$193,0)+IF('Carga de datos'!$G$7=18,'Calculos Con Estabilizacion'!$E$194,0)+IF('Carga de datos'!$G$7=19,'Calculos Con Estabilizacion'!$E$195,0)),0) -> 0 | E9: =B9-C9 -> -2862.6518 | F9: =IF(E9>=0,E9,) -> 0
A10: =+'Carga de datos'!H14 -> 44621 | B10: =IF(A10=DATE(2021,1,1),'Calculos Sin Estabilizacion'!$D$177,0)+IF(A10=DATE(2021,2,1),'Calculos Sin Estabilizacion'!$D$178,0)+IF(A10=DATE(2021,3,1),'Calculos Sin Estabilizacion'!$D$179,0)+IF(A10=DATE(2021,4,1),'Calculos Sin Estabilizacion'!$D$180,0)+IF(A10=DATE(2021,5,1),'Calculos Sin Estabilizacion'!$D$181,0)+IF(A10=DATE(2021,6,1),'Calculos Sin Estabilizacion'!$D$182,0)+IF(A10=DATE(2021,7,1),'Calculos Sin Estabilizacion'!$D$183,0)+IF(A10=DATE(2021,8,1),'Calculos Sin Estabilizacion'!$D$184,0)+IF(A10=DATE(2021,9,1),'Calculos Sin Estabilizacion'!$D$185,0)+IF(A10=DATE(2021,10,1),'Calculos Sin Estabilizacion'!$D$186,0)+IF(A10=DATE(2021,11,1),'Calculos Sin Estabilizacion'!$D$187,0)+IF(A10=DATE(2021,12,1),'Calculos Sin Estabilizacion'!$D$188,0)+IF(A10=DATE(2022,1,1),'Calculos Sin Estabilizacion'!$D$189,0)+IF(A10=DATE(2022,2,1),'Calculos Sin Estabilizacion'!$D$190,0)+IF(A10=DATE(2022,3,1),'Calculos Sin Estabilizacion'!$D$191,0)+IF(A10=DATE(2022,4,1),'Calculos Sin Estabilizacion'!$D$192,0)+IF(A10=DATE(2022,5,1),'Calculos Sin Estabilizacion'!$D$193,0)+IF(A10=DATE(2022,6,1),'Calculos Sin Estabilizacion'!$D$194,0)+IF(A10=DATE(2022,7,1),'Calculos Sin Estabilizacion'!$D$195,0) -> 10144.381 | C10: =IF(A10=DATE(2021,1,1),'Calculos Con Estabilizacion'!$D$177,0)+IF(A10=DATE(2021,2,1),'Calculos Con Estabilizacion'!$D$178,0)+IF(A10=DATE(2021,3,1),'Calculos Con Estabilizacion'!$D$179,0)+IF(A10=DATE(2021,4,1),'Calculos Con Estabilizacion'!$D$180,0)+IF(A10=DATE(2021,5,1),'Calculos Con Estabilizacion'!$D$181,0)+IF(A10=DATE(2021,6,1),'Calculos Con Estabilizacion'!$D$182,0)+IF(A10=DATE(2021,7,1),'Calculos Con Estabilizacion'!$D$183,0)+IF(A10=DATE(2021,8,1),'Calculos Con Estabilizacion'!$D$184,0)+IF(A10=DATE(2021,9,1),'Calculos Con Estabilizacion'!$D$185,0)+IF(A10=DATE(2021,10,1),'Calculos Con Estabilizacion'!$D$186,0)+IF(A10=DATE(2021,11,1),'Calculos Con Estabilizacion'!$D$187,0)+IF(A10=DATE(2021,12,1),'Calculos Con Estabilizacion'!$D$188,0)+IF(A10=DATE(2022,1,1),'Calculos Con Estabilizacion'!$D$189,0)+IF(A10=DATE(2022,2,1),'Calculos Con Estabilizacion'!$D$190,0)+IF(A10=DATE(2022,3,1),'Calculos Con Estabilizacion'!$D$191,0)+IF(A10=DATE(2022,4,1),'Calculos Con Estabilizacion'!$D$192,0)+IF(A10=DATE(2022,5,1),'Calculos Con Estabilizacion'!$D$193,0)+IF(A10=DATE(2022,6,1),'Calculos Con Estabilizacion'!$D$194,0)+IF(A10=DATE(2022,7,1),'Calculos Con Estabilizacion'!$D$195,0)+D10 -> 14374.165 | D10: =IF(A10=DATE(2022,7,1),(IF('Carga de datos'!$G$7=8,'Calculos Sin Estabilizacion'!$E$184,0)+IF('Carga de datos'!$G$7=9,'Calculos Sin Estabilizacion'!$E$185,0)+IF('Carga de datos'!$G$7=10,'Calculos Sin Estabilizacion'!$E$186,0)+IF('Carga de datos'!$G$7=11,'Calculos Sin Estabilizacion'!$E$187,0)+IF('Carga de datos'!$G$7=12,'Calculos Sin Estabilizacion'!$E$188,0)+IF('Carga de datos'!$G$7=13,'Calculos Sin Estabilizacion'!$E$189,0)+IF('Carga de datos'!$G$7=14,'Calculos Sin Estabilizacion'!$E$190,0)+IF('Carga de datos'!$G$7=15,'Calculos Sin Estabilizacion'!$E$191,0)+IF('Carga de datos'!$G$7=16,'Calculos Sin Estabilizacion'!$E$192,0)+IF('Carga de datos'!$G$7=17,'Calculos Sin Estabilizacion'!$E$193,0)+IF('Carga de datos'!$G$7=18,'Calculos Sin Estabilizacion'!$E$194,0)+IF('Carga de datos'!$G$7=19,'Calculos Sin Estabilizacion'!$E$195,0))-(IF('Carga de datos'!$G$7=8,'Calculos Con Estabilizacion'!$E$184,0)+IF('Carga de datos'!$G$7=9,'Calculos Con Estabilizacion'!$E$185,0)+IF('Carga de datos'!$G$7=10,'Calculos Con Estabilizacion'!$E$186,0)+IF('Carga de datos'!$G$7=11,'Calculos Con Estabilizacion'!$E$187,0)+IF('Carga de datos'!$G$7=12,'Calculos Con Estabilizacion'!$E$188,0)+IF('Carga de datos'!$G$7=13,'Calculos Con Estabilizacion'!$E$189,0)+IF('Carga de datos'!$G$7=14,'Calculos Con Estabilizacion'!$E$190,0)+IF('Carga de datos'!$G$7=15,'Calculos Con Estabilizacion'!$E$191,0)+IF('Carga de datos'!$G$7=16,'Calculos Con Estabilizacion'!$E$192,0)+IF('Carga de datos'!$G$7=17,'Calculos Con Estabilizacion'!$E$193,0)+IF('Carga de datos'!$G$7=18,'Calculos Con Estabilizacion'!$E$194,0)+IF('Carga de datos'!$G$7=19,'Calculos Con Estabilizacion'!$E$195,0)),0) -> 0 | E10: =B10-C10 -> -4229.7846 | F10: =IF(E10>=0,E10,) -> 0
A11: =+'Carga de datos'!H15 -> 44652 | B11: =IF(A11=DATE(2021,1,1),'Calculos Sin Estabilizacion'!$D$177,0)+IF(A11=DATE(2021,2,1),'Calculos Sin Estabilizacion'!$D$178,0)+IF(A11=DATE(2021,3,1),'Calculos Sin Estabilizacion'!$D$179,0)+IF(A11=DATE(2021,4,1),'Calculos Sin Estabilizacion'!$D$180,0)+IF(A11=DATE(2021,5,1),'Calculos Sin Estabilizacion'!$D$181,0)+IF(A11=DATE(2021,6,1),'Calculos Sin Estabilizacion'!$D$182,0)+IF(A11=DATE(2021,7,1),'Calculos Sin Estabilizacion'!$D$183,0)+IF(A11=DATE(2021,8,1),'Calculos Sin Estabilizacion'!$D$184,0)+IF(A11=DATE(2021,9,1),'Calculos Sin Estabilizacion'!$D$185,0)+IF(A11=DATE(2021,10,1),'Calculos Sin Estabilizacion'!$D$186,0)+IF(A11=DATE(2021,11,1),'Calculos Sin Estabilizacion'!$D$187,0)+IF(A11=DATE(2021,12,1),'Calculos Sin Estabilizacion'!$D$188,0)+IF(A11=DATE(2022,1,1),'Calculos Sin Estabilizacion'!$D$189,0)+IF(A11=DATE(2022,2,1),'Calculos Sin Estabilizacion'!$D$190,0)+IF(A11=DATE(2022,3,1),'Calculos Sin Estabilizacion'!$D$191,0)+IF(A11=DATE(2022,4,1),'Calculos Sin Estabilizacion'!$D$192,0)+IF(A11=DATE(2022,5,1),'Calculos Sin Estabilizacion'!$D$193,0)+IF(A11=DATE(2022,6,1),'Calculos Sin Estabilizacion'!$D$194,0)+IF(A11=DATE(2022,7,1),'Calculos Sin Estabilizacion'!$D$195,0) -> 8293.8592 | C11: =IF(A11=DATE(2021,1,1),'Calculos Con Estabilizacion'!$D$177,0)+IF(A11=DATE(2021,2,1),'Calculos Con Estabilizacion'!$D$178,0)+IF(A11=DATE(2021,3,1),'Calculos Con Estabilizacion'!$D$179,0)+IF(A11=DATE(2021,4,1),'Calculos Con Estabilizacion'!$D$180,0)+IF(A11=DATE(2021,5,1),'Calculos Con Estabilizacion'!$D$181,0)+IF(A11=DATE(2021,6,1),'Calculos Con Estabilizacion'!$D$182,0)+IF(A11=DATE(2021,7,1),'Calculos Con Estabilizacion'!$D$183,0)+IF(A11=DATE(2021,8,1),'Calculos Con Estabilizacion'!$D$184,0)+IF(A11=DATE(2021,9,1),'Calculos Con Estabilizacion'!$D$185,0)+IF(A11=DATE(2021,10,1),'Calculos Con Estabilizacion'!$D$186,0)+IF(A11=DATE(2021,11,1),'Calculos Con Estabilizacion'!$D$187,0)+IF(A11=DATE(2021,12,1),'Calculos Con Estabilizacion'!$D$188,0)+IF(A11=DATE(2022,1,1),'Calculos Con Estabilizacion'!$D$189,0)+IF(A11=DATE(2022,2,1),'Calculos Con Estabilizacion'!$D$190,0)+IF(A11=DATE(2022,3,1),'Calculos Con Estabilizacion'!$D$191,0)+IF(A11=DATE(2022,4,1),'Calculos Con Estabilizacion'!$D$192,0)+IF(A11=DATE(2022,5,1),'Calculos Con Estabilizacion'!$D$193,0)+IF(A11=DATE(2022,6,1),'Calculos Con Estabilizacion'!$D$194,0)+IF(A11=DATE(2022,7,1),'Calculos Con Estabilizacion'!$D$195,0)+D11 -> 13260.919 | D11: =IF(A11=DATE(2022,7,1),(IF('Carga de datos'!$G$7=8,'Calculos Sin Estabilizacion'!$E$184,0)+IF('Carga de datos'!$G$7=9,'Calculos Sin Estabilizacion'!$E$185,0)+IF('Carga de datos'!$G$7=10,'Calculos Sin Estabilizacion'!$E$186,0)+IF('Carga de datos'!$G$7=11,'Calculos Sin Estabilizacion'!$E$187,0)+IF('Carga de datos'!$G$7=12,'Calculos Sin Estabilizacion'!$E$188,0)+IF('Carga de datos'!$G$7=13,'Calculos Sin Estabilizacion'!$E$189,0)+IF('Carga de datos'!$G$7=14,'Calculos Sin Estabilizacion'!$E$190,0)+IF('Carga de datos'!$G$7=15,'Calculos Sin Estabilizacion'!$E$191,0)+IF('Carga de datos'!$G$7=16,'Calculos Sin Estabilizacion'!$E$192,0)+IF('Carga de datos'!$G$7=17,'Calculos Sin Estabilizacion'!$E$193,0)+IF('Carga de datos'!$G$7=18,'Calculos Sin Estabilizacion'!$E$194,0)+IF('Carga de datos'!$G$7=19,'Calculos Sin Estabilizacion'!$E$195,0))-(IF('Carga de datos'!$G$7=8,'Calculos Con Estabilizacion'!$E$184,0)+IF('Carga de datos'!$G$7=9,'Calculos Con Estabilizacion'!$E$185,0)+IF('Carga de datos'!$G$7=10,'Calculos Con Estabilizacion'!$E$186,0)+IF('Carga de datos'!$G$7=11,'Calculos Con Estabilizacion'!$E$187,0)+IF('Carga de datos'!$G$7=12,'Calculos Con Estabilizacion'!$E$188,0)+IF('Carga de datos'!$G$7=13,'Calculos Con Estabilizacion'!$E$189,0)+IF('Carga de datos'!$G$7=14,'Calculos Con Estabilizacion'!$E$190,0)+IF('Carga de datos'!$G$7=15,'Calculos Con Estabilizacion'!$E$191,0)+IF('Carga de datos'!$G$7=16,'Calculos Con Estabilizacion'!$E$192,0)+IF('Carga de datos'!$G$7=17,'Calculos Con Estabilizacion'!$E$193,0)+IF('Carga de datos'!$G$7=18,'Calculos Con Estabilizacion'!$E$194,0)+IF('Carga de datos'!$G$7=19,'Calculos Con Estabilizacion'!$E$195,0)),0) -> 0 | E11: =B11-C11 -> -4967.0602 | F11: =IF(E11>=0,E11,) -> 0
A12: =+'Carga de datos'!H16 -> 44682 | B12: =IF(A12=DATE(2021,1,1),'Calculos Sin Estabilizacion'!$D$177,0)+IF(A12=DATE(2021,2,1),'Calculos Sin Estabilizacion'!$D$178,0)+IF(A12=DATE(2021,3,1),'Calculos Sin Estabilizacion'!$D$179,0)+IF(A12=DATE(2021,4,1),'Calculos Sin Estabilizacion'!$D$180,0)+IF(A12=DATE(2021,5,1),'Calculos Sin Estabilizacion'!$D$181,0)+IF(A12=DATE(2021,6,1),'Calculos Sin Estabilizacion'!$D$182,0)+IF(A12=DATE(2021,7,1),'Calculos Sin Estabilizacion'!$D$183,0)+IF(A12=DATE(2021,8,1),'Calculos Sin Estabilizacion'!$D$184,0)+IF(A12=DATE(2021,9,1),'Calculos Sin Estabilizacion'!$D$185,0)+IF(A12=DATE(2021,10,1),'Calculos Sin Estabilizacion'!$D$186,0)+IF(A12=DATE(2021,11,1),'Calculos Sin Estabilizacion'!$D$187,0)+IF(A12=DATE(2021,12,1),'Calculos Sin Estabilizacion'!$D$188,0)+IF(A12=DATE(2022,1,1),'Calculos Sin Estabilizacion'!$D$189,0)+IF(A12=DATE(2022,2,1),'Calculos Sin Estabilizacion'!$D$190,0)+IF(A12=DATE(2022,3,1),'Calculos Sin Estabilizacion'!$D$191,0)+IF(A12=DATE(2022,4,1),'Calculos Sin Estabilizacion'!$D$192,0)+IF(A12=DATE(2022,5,1),'Calculos Sin Estabilizacion'!$D$193,0)+IF(A12=DATE(2022,6,1),'Calculos Sin Estabilizacion'!$D$194,0)+IF(A12=DATE(2022,7,1),'Calculos Sin Estabilizacion'!$D$195,0) -> 6108.3319 | C12: =IF(A12=DATE(2021,1,1),'Calculos Con Estabilizacion'!$D$177,0)+IF(A12=DATE(2021,2,1),'Calculos Con Estabilizacion'!$D$178,0)+IF(A12=DATE(2021,3,1),'Calculos Con Estabilizacion'!$D$179,0)+IF(A12=DATE(2021,4,1),'Calculos Con Estabilizacion'!$D$180,0)+IF(A12=DATE(2021,5,1),'Calculos Con Estabilizacion'!$D$181,0)+IF(A12=DATE(2021,6,1),'Calculos Con Estabilizacion'!$D$182,0)+IF(A12=DATE(2021,7,1),'Calculos Con Estabilizacion'!$D$183,0)+IF(A12=DATE(2021,8,1),'Calculos Con Estabilizacion'!$D$184,0)+IF(A12=DATE(2021,9,1),'Calculos Con Estabilizacion'!$D$185,0)+IF(A12=DATE(2021,10,1),'Calculos Con Estabilizacion'!$D$186,0)+IF(A12=DATE(2021,11,1),'Calculos Con Estabilizacion'!$D$187,0)+IF(A12=DATE(2021,12,1),'Calculos Con Estabilizacion'!$D$188,0)+IF(A12=DATE(2022,1,1),'Calculos Con Estabilizacion'!$D$189,0)+IF(A12=DATE(2022,2,1),'Calculos Con Estabilizacion'!$D$190,0)+IF(A12=DATE(2022,3,1),'Calculos Con Estabilizacion'!$D$191,0)+IF(A12=DATE(2022,4,1),'Calculos Con Estabilizacion'!$D$192,0)+IF(A12=DATE(2022,5,1),'Calculos Con Estabilizacion'!$D$193,0)+IF(A12=DATE(2022,6,1),'Calculos Con Estabilizacion'!$D$194,0)+IF(A12=DATE(2022,7,1),'Calculos Con Estabilizacion'!$D$195,0)+D12 -> 11157.103 | D12: =IF(A12=DATE(2022,7,1),(IF('Carga de datos'!$G$7=8,'Calculos Sin Estabilizacion'!$E$184,0)+IF('Carga de datos'!$G$7=9,'Calculos Sin Estabilizacion'!$E$185,0)+IF('Carga de datos'!$G$7=10,'Calculos Sin Estabilizacion'!$E$186,0)+IF('Carga de datos'!$G$7=11,'Calculos Sin Estabilizacion'!$E$187,0)+IF('Carga de datos'!$G$7=12,'Calculos Sin Estabilizacion'!$E$188,0)+IF('Carga de datos'!$G$7=13,'Calculos Sin Estabilizacion'!$E$189,0)+IF('Carga de datos'!$G$7=14,'Calculos Sin Estabilizacion'!$E$190,0)+IF('Carga de datos'!$G$7=15,'Calculos Sin Estabilizacion'!$E$191,0)+IF('Carga de datos'!$G$7=16,'Calculos Sin Estabilizacion'!$E$192,0)+IF('Carga de datos'!$G$7=17,'Calculos Sin Estabilizacion'!$E$193,0)+IF('Carga de datos'!$G$7=18,'Calculos Sin Estabilizacion'!$E$194,0)+IF('Carga de datos'!$G$7=19,'Calculos Sin Estabilizacion'!$E$195,0))-(IF('Carga de datos'!$G$7=8,'Calculos Con Estabilizacion'!$E$184,0)+IF('Carga de datos'!$G$7=9,'Calculos Con Estabilizacion'!$E$185,0)+IF('Carga de datos'!$G$7=10,'Calculos Con Estabilizacion'!$E$186,0)+IF('Carga de datos'!$G$7=11,'Calculos Con Estabilizacion'!$E$187,0)+IF('Carga de datos'!$G$7=12,'Calculos Con Estabilizacion'!$E$188,0)+IF('Carga de datos'!$G$7=13,'Calculos Con Estabilizacion'!$E$189,0)+IF('Carga de datos'!$G$7=14,'Calculos Con Estabilizacion'!$E$190,0)+IF('Carga de datos'!$G$7=15,'Calculos Con Estabilizacion'!$E$191,0)+IF('Carga de datos'!$G$7=16,'Calculos Con Estabilizacion'!$E$192,0)+IF('Carga de datos'!$G$7=17,'Calculos Con Estabilizacion'!$E$193,0)+IF('Carga de datos'!$G$7=18,'Calculos Con Estabilizacion'!$E$194,0)+IF('Carga de datos'!$G$7=19,'Calculos Con Estabilizacion'!$E$195,0)),0) -> 0 | E12: =B12-C12 -> -5048.7715 | F12: =IF(E12>=0,E12,) -> 0
A13: =+'Carga de datos'!H17 -> 44713 | B13: =IF(A13=DATE(2021,1,1),'Calculos Sin Estabilizacion'!$D$177,0)+IF(A13=DATE(2021,2,1),'Calculos Sin Estabilizacion'!$D$178,0)+IF(A13=DATE(2021,3,1),'Calculos Sin Estabilizacion'!$D$179,0)+IF(A13=DATE(2021,4,1),'Calculos Sin Estabilizacion'!$D$180,0)+IF(A13=DATE(2021,5,1),'Calculos Sin Estabilizacion'!$D$181,0)+IF(A13=DATE(2021,6,1),'Calculos Sin Estabilizacion'!$D$182,0)+IF(A13=DATE(2021,7,1),'Calculos Sin Estabilizacion'!$D$183,0)+IF(A13=DATE(2021,8,1),'Calculos Sin Estabilizacion'!$D$184,0)+IF(A13=DATE(2021,9,1),'Calculos Sin Estabilizacion'!$D$185,0)+IF(A13=DATE(2021,10,1),'Calculos Sin Estabilizacion'!$D$186,0)+IF(A13=DATE(2021,11,1),'Calculos Sin Estabilizacion'!$D$187,0)+IF(A13=DATE(2021,12,1),'Calculos Sin Estabilizacion'!$D$188,0)+IF(A13=DATE(2022,1,1),'Calculos Sin Estabilizacion'!$D$189,0)+IF(A13=DATE(2022,2,1),'Calculos Sin Estabilizacion'!$D$190,0)+IF(A13=DATE(2022,3,1),'Calculos Sin Estabilizacion'!$D$191,0)+IF(A13=DATE(2022,4,1),'Calculos Sin Estabilizacion'!$D$192,0)+IF(A13=DATE(2022,5,1),'Calculos Sin Estabilizacion'!$D$193,0)+IF(A13=DATE(2022,6,1),'Calculos Sin Estabilizacion'!$D$194,0)+IF(A13=DATE(2022,7,1),'Calculos Sin Estabilizacion'!$D$195,0) -> 5046.7253 | C13: =IF(A13=DATE(2021,1,1),'Calculos Con Estabilizacion'!$D$177,0)+IF(A13=DATE(2021,2,1),'Calculos Con Estabilizacion'!$D$178,0)+IF(A13=DATE(2021,3,1),'Calculos Con Estabilizacion'!$D$179,0)+IF(A13=DATE(2021,4,1),'Calculos Con Estabilizacion'!$D$180,0)+IF(A13=DATE(2021,5,1),'Calculos Con Estabilizacion'!$D$181,0)+IF(A13=DATE(2021,6,1),'Calculos Con Estabilizacion'!$D$182,0)+IF(A13=DATE(2021,7,1),'Calculos Con Estabilizacion'!$D$183,0)+IF(A13=DATE(2021,8,1),'Calculos Con Estabilizacion'!$D$184,0)+IF(A13=DATE(2021,9,1),'Calculos Con Estabilizacion'!$D$185,0)+IF(A13=DATE(2021,10,1),'Calculos Con Estabilizacion'!$D$186,0)+IF(A13=DATE(2021,11,1),'Calculos Con Estabilizacion'!$D$187,0)+IF(A13=DATE(2021,12,1),'Calculos Con Estabilizacion'!$D$188,0)+IF(A13=DATE(2022,1,1),'Calculos Con Estabilizacion'!$D$189,0)+IF(A13=DATE(2022,2,1),'Calculos Con Estabilizacion'!$D$190,0)+IF(A13=DATE(2022,3,1),'Calculos Con Estabilizacion'!$D$191,0)+IF(A13=DATE(2022,4,1),'Calculos Con Estabilizacion'!$D$192,0)+IF(A13=DATE(2022,5,1),'Calculos Con Estabilizacion'!$D$193,0)+IF(A13=DATE(2022,6,1),'Calculos Con Estabilizacion'!$D$194,0)+IF(A13=DATE(2022,7,1),'Calculos Con Estabilizacion'!$D$195,0)+D13 -> 9246.0142 | D13: =IF(A13=DATE(2022,7,1),(IF('Carga de datos'!$G$7=8,'Calculos Sin Estabilizacion'!$E$184,0)+IF('Carga de datos'!$G$7=9,'Calculos Sin Estabilizacion'!$E$185,0)+IF('Carga de datos'!$G$7=10,'Calculos Sin Estabilizacion'!$E$186,0)+IF('Carga de datos'!$G$7=11,'Calculos Sin Estabilizacion'!$E$187,0)+IF('Carga de datos'!$G$7=12,'Calculos Sin Estabilizacion'!$E$188,0)+IF('Carga de datos'!$G$7=13,'Calculos Sin Estabilizacion'!$E$189,0)+IF('Carga de datos'!$G$7=14,'Calculos Sin Estabilizacion'!$E$190,0)+IF('Carga de datos'!$G$7=15,'Calculos Sin Estabilizacion'!$E$191,0)+IF('Carga de datos'!$G$7=16,'Calculos Sin Estabilizacion'!$E$192,0)+IF('Carga de datos'!$G$7=17,'Calculos Sin Estabilizacion'!$E$193,0)+IF('Carga de datos'!$G$7=18,'Calculos Sin Estabilizacion'!$E$194,0)+IF('Carga de datos'!$G$7=19,'Calculos Sin Estabilizacion'!$E$195,0))-(IF('Carga de datos'!$G$7=8,'Calculos Con Estabilizacion'!$E$184,0)+IF('Carga de datos'!$G$7=9,'Calculos Con Estabilizacion'!$E$185,0)+IF('Carga de datos'!$G$7=10,'Calculos Con Estabilizacion'!$E$186,0)+IF('Carga de datos'!$G$7=11,'Calculos Con Estabilizacion'!$E$187,0)+IF('Carga de datos'!$G$7=12,'Calculos Con Estabilizacion'!$E$188,0)+IF('Carga de datos'!$G$7=13,'Calculos Con Estabilizacion'!$E$189,0)+IF('Carga de datos'!$G$7=14,'Calculos Con Estabilizacion'!$E$190,0)+IF('Carga de datos'!$G$7=15,'Calculos Con Estabilizacion'!$E$191,0)+IF('Carga de datos'!$G$7=16,'Calculos Con Estabilizacion'!$E$192,0)+IF('Carga de datos'!$G$7=17,'Calculos Con Estabilizacion'!$E$193,0)+IF('Carga de datos'!$G$7=18,'Calculos Con Estabilizacion'!$E$194,0)+IF('Carga de datos'!$G$7=19,'Calculos Con Estabilizacion'!$E$195,0)),0) -> 0 | E13: =B13-C13 -> -4199.2889 | F13: =IF(E13>=0,E13,) -> 0
